BEGIN:VCALENDAR
VERSION:2.0
PRODID:-//DGZfP//NONSGML Event Calendar//EN
BEGIN:VEVENT
UID:4ba3a8aaad152d230887da6a26610846@dgzfp.de
DTSTAMP:20260421T160334Z
DTSTART:20270316T010000
DTEND:20270317T000000
SUMMARY:Fachseminar des FA Optische Verfahren
DESCRIPTION:
LOCATION:Magdeburg
END:VEVENT
END:VCALENDAR
