BEGIN:VCALENDAR
VERSION:2.0
PRODID:-//DGZfP//NONSGML Event Calendar//EN
BEGIN:VEVENT
UID:ededc7e1ce8f57bb859089b9360ed86f@dgzfp.de
DTSTAMP:20260421T142913Z
DTSTART:20270906T020000
DTEND:20270910T000000
SUMMARY:Advanced Infrared Technology and Applications Conference (AITA) 2027
DESCRIPTION:
LOCATION:Dresden
END:VEVENT
END:VCALENDAR
