BEGIN:VCALENDAR
VERSION:2.0
PRODID:-//DGZfP//NONSGML Event Calendar//EN
BEGIN:VEVENT
UID:707d151938a001b172e8029cbeccf67b@dgzfp.de
DTSTAMP:20260421T143238Z
DTSTART:20261103T100000
DTEND:20261104T170000
SUMMARY:4. Anwenderseminar Wirbelstromprüfung
DESCRIPTION:
LOCATION:Schweinfurt
END:VEVENT
END:VCALENDAR
