BEGIN:VCALENDAR
VERSION:2.0
PRODID:-//DGZfP//NONSGML Event Calendar//EN
BEGIN:VEVENT
UID:06956e10db83a3243154d65e297620d1@dgzfp.de
DTSTAMP:20260421T155611Z
DTSTART:20260304T110000
DTEND:20260305T150000
SUMMARY:Material Truth: Zerstörungsfreie Prüfung historischer Objekte
DESCRIPTION:
LOCATION:Magdeburg
END:VEVENT
END:VCALENDAR
