BEGIN:VCALENDAR
VERSION:2.0
PRODID:-//DGZfP//NONSGML Event Calendar//EN
BEGIN:VEVENT
UID:965b31e51d54c2d604af3f8008dc1db6@dgzfp.de
DTSTAMP:20260421T143701Z
DTSTART:20260226T010000
DTEND:20260227T180000
SUMMARY:Fachtagung Bauwerksdiagnose
DESCRIPTION:
LOCATION:Münster
END:VEVENT
END:VCALENDAR
