BEGIN:VCALENDAR
VERSION:2.0
PRODID:-//DGZfP//NONSGML Event Calendar//EN
BEGIN:VEVENT
UID:5cec9e1e2fc34196c7c6574825863d16@dgzfp.de
DTSTAMP:20260421T143238Z
DTSTART:20260511T090000
DTEND:20260513T140000
SUMMARY:DGZfP-Jahrestagung 2026
DESCRIPTION:
LOCATION:Aachen
END:VEVENT
END:VCALENDAR
