BEGIN:VCALENDAR
VERSION:2.0
PRODID:-//DGZfP//NONSGML Event Calendar//EN
BEGIN:VEVENT
UID:1b8058dee2800a7e966dcb494a5f1fed@dgzfp.de
DTSTAMP:20260421T142743Z
DTSTART:20260317T080000
DTEND:20260319T120000
SUMMARY:14. Fachtagung ZfP im Eisenbahnwesen
DESCRIPTION:
LOCATION:Erfurt
END:VEVENT
END:VCALENDAR
